BEGIN:VCALENDAR
VERSION:2.0
PRODID:-//Plone.org//NONSGML plone.app.event//EN
X-WR-TIMEZONE:Europe/Berlin
BEGIN:VEVENT
SUMMARY:“I GIORNI DEL CONDOR”: 50° MEMORIALE MEMORIE A 50 ANNI DEL CO
 LPO DI STATO CIVICO MILITARE IN ARGENTINA
DTSTART;TZID=Europe/Berlin:20260326T093000
DTEND;TZID=Europe/Berlin:20260326T113000
DTSTAMP:20260420T084112Z
UID:8c02b013d4e648379f8a546d80969b77@plone6.unife.it:8059
CATEGORIES:ricerca,terza-missione
CREATED:20260326T104627Z
LAST-MODIFIED:20260326T104642Z
LOCATION:Dipartimento di Giurisprudenza - Aula 7
URL:https://de.unife.it/giuri/it/eventi/201ci-giorni-del-condor201d-50deg-
 memoriale-memorie-a-50-anni-del-colpo-di-stato-civico-militare-in-argentin
 a
END:VEVENT
BEGIN:VTIMEZONE
TZID:Europe/Berlin
X-LIC-LOCATION:Europe/Berlin
BEGIN:STANDARD
DTSTART:20251026T020000
TZNAME:CET
TZOFFSETFROM:+0200
TZOFFSETTO:+0100
END:STANDARD
END:VTIMEZONE
END:VCALENDAR
