BEGIN:VCALENDAR
VERSION:2.0
PRODID:-//Plone.org//NONSGML plone.app.event//EN
X-WR-TIMEZONE:Europe/Berlin
BEGIN:VEVENT
SUMMARY:AF_AltreFondamenta
DTSTART;TZID=Europe/Berlin:20241021T143000
DTEND;TZID=Europe/Berlin:20241021T170000
DTSTAMP:20260420T083425Z
UID:db24a5a3205741839716317f22d334fd@plone6.unife.it:8059
CREATED:20241017T131832Z
DESCRIPTION:II seminario
LAST-MODIFIED:20241017T131925Z
LOCATION:Dipartimento di Giurisprudenza - Sala riunioni
URL:https://de.unife.it/giuri/it/eventi/af_altrefondamenta-1
END:VEVENT
BEGIN:VTIMEZONE
TZID:Europe/Berlin
X-LIC-LOCATION:Europe/Berlin
BEGIN:DAYLIGHT
DTSTART:20240331T030000
TZNAME:CEST
TZOFFSETFROM:+0100
TZOFFSETTO:+0200
END:DAYLIGHT
END:VTIMEZONE
END:VCALENDAR
