BEGIN:VCALENDAR
VERSION:2.0
PRODID:-//Plone.org//NONSGML plone.app.event//EN
X-WR-TIMEZONE:Europe/Berlin
BEGIN:VEVENT
SUMMARY:Aldricus | La giurisdizione nelle controversie in materia di contr
 atti commerciali e in ambito familiare
DTSTART;TZID=Europe/Berlin:20260330T150000
DTEND;TZID=Europe/Berlin:20260331T180000
DTSTAMP:20260420T084111Z
UID:07d62bb6df4046408ea305a046e7eb9a@plone6.unife.it:8059
CATEGORIES:ricerca
CREATED:20260319T125942Z
DESCRIPTION:EJNita 3.0
LAST-MODIFIED:20260319T130606Z
LOCATION:Online
URL:https://de.unife.it/giuri/it/eventi/aldricus-la-giurisdizione-nelle-co
 ntroversie-in-materia-di-contratti-commerciali-e-in-ambito-familiare
END:VEVENT
BEGIN:VTIMEZONE
TZID:Europe/Berlin
X-LIC-LOCATION:Europe/Berlin
BEGIN:DAYLIGHT
DTSTART:20260329T030000
TZNAME:CEST
TZOFFSETFROM:+0100
TZOFFSETTO:+0200
END:DAYLIGHT
END:VTIMEZONE
END:VCALENDAR
