BEGIN:VCALENDAR
VERSION:2.0
PRODID:-//Plone.org//NONSGML plone.app.event//EN
X-WR-TIMEZONE:Europe/Berlin
BEGIN:VEVENT
SUMMARY:Amministrazione di sostegno e protezione della persona con disabil
 ità
DTSTART;TZID=Europe/Berlin:20260529T143000
DTEND;TZID=Europe/Berlin:20260529T173000
DTSTAMP:20260420T070118Z
UID:fb0c5d4491614ecbb970648d80654436@plone6.unife.it:8059
CATEGORIES:terza-missione
CREATED:20260326T102914Z
LAST-MODIFIED:20260326T102935Z
LOCATION:Dipartimento di Giurisprudenza - Aula magna ‘Luigi Costato’ -
  Rovigo
URL:https://de.unife.it/giuri/it/eventi/amministrazione-di-sostegno-e-prot
 ezione-della-persona-con-disabilita
END:VEVENT
BEGIN:VTIMEZONE
TZID:Europe/Berlin
X-LIC-LOCATION:Europe/Berlin
BEGIN:DAYLIGHT
DTSTART:20260329T030000
TZNAME:CEST
TZOFFSETFROM:+0100
TZOFFSETTO:+0200
END:DAYLIGHT
END:VTIMEZONE
END:VCALENDAR
