BEGIN:VCALENDAR
VERSION:2.0
PRODID:-//Plone.org//NONSGML plone.app.event//EN
X-WR-TIMEZONE:Europe/Berlin
BEGIN:VEVENT
SUMMARY:Analisi e discussione di un caso giudiziario con Dott. Ciro Albert
 o Savino - Sostituto Procuratore presso il Tribunale di Ferrara
DTSTART;TZID=Europe/Berlin:20250506T153000
DTEND;TZID=Europe/Berlin:20250506T173000
DTSTAMP:20260420T084112Z
UID:3a7c64acc8b647c39b3716e1a3b61ae8@plone6.unife.it:8059
CATEGORIES:didattica-ferrara
CREATED:20250505T105509Z
LAST-MODIFIED:20250505T105528Z
LOCATION:Dipartimento di Giurisprudenza - aula 7
URL:https://de.unife.it/giuri/it/eventi/analisi-e-discussione-di-un-caso-g
 iudiziario-con-dott-ciro-alberto-savino-sostituto-procuratore-presso-il-tr
 ibunale-di-ferrara
END:VEVENT
BEGIN:VTIMEZONE
TZID:Europe/Berlin
X-LIC-LOCATION:Europe/Berlin
BEGIN:DAYLIGHT
DTSTART:20250330T030000
TZNAME:CEST
TZOFFSETFROM:+0100
TZOFFSETTO:+0200
END:DAYLIGHT
END:VTIMEZONE
END:VCALENDAR
