BEGIN:VCALENDAR
VERSION:2.0
PRODID:-//Plone.org//NONSGML plone.app.event//EN
X-WR-TIMEZONE:Europe/Berlin
BEGIN:VEVENT
SUMMARY:Assisted death before the European Court of Human Rights: from Pre
 tty (2002) to Karsai (2024)
DTSTART;TZID=Europe/Berlin:20260309T100000
DTEND;TZID=Europe/Berlin:20260309T130000
DTSTAMP:20260420T084026Z
UID:016a392b325249c78ed12b0190ae3e12@plone6.unife.it:8059
CATEGORIES:didattica-ferrara,dottorato
CREATED:20260306T095208Z
LAST-MODIFIED:20260306T095224Z
LOCATION:Dipartimento di Giurisprudenza - Aula 8
URL:https://de.unife.it/giuri/it/eventi/assisted-death-before-the-european
 -court-of-human-rights-from-pretty-2002-to-karsai-2024
END:VEVENT
BEGIN:VTIMEZONE
TZID:Europe/Berlin
X-LIC-LOCATION:Europe/Berlin
BEGIN:STANDARD
DTSTART:20251026T020000
TZNAME:CET
TZOFFSETFROM:+0200
TZOFFSETTO:+0100
END:STANDARD
END:VTIMEZONE
END:VCALENDAR
