BEGIN:VCALENDAR
VERSION:2.0
PRODID:-//Plone.org//NONSGML plone.app.event//EN
X-WR-TIMEZONE:Europe/Berlin
BEGIN:VEVENT
SUMMARY:Azioni e formule nel processo privato romano
DTSTART;TZID=Europe/Berlin:20241202T150000
DTEND;TZID=Europe/Berlin:20241202T180000
DTSTAMP:20260420T082756Z
UID:f2cbbe629ce445b88200d5bec1df98f2@plone6.unife.it:8059
CATEGORIES:didattica-rovigo
CREATED:20241126T071105Z
DESCRIPTION:Seminario nell’ambito del Corso di Istituzioni di Diritto Ro
 mano
LAST-MODIFIED:20241126T071157Z
LOCATION:Dipartimento di Giurisprudenza - Sede di Rovigo\, AULA D
URL:https://de.unife.it/giuri/it/eventi/azioni-e-formule-nel-processo-priv
 ato-romano-1
END:VEVENT
BEGIN:VTIMEZONE
TZID:Europe/Berlin
X-LIC-LOCATION:Europe/Berlin
BEGIN:STANDARD
DTSTART:20241027T020000
TZNAME:CET
TZOFFSETFROM:+0200
TZOFFSETTO:+0100
END:STANDARD
END:VTIMEZONE
END:VCALENDAR
