BEGIN:VCALENDAR
VERSION:2.0
PRODID:-//Plone.org//NONSGML plone.app.event//EN
X-WR-TIMEZONE:Europe/Berlin
BEGIN:VEVENT
SUMMARY:Bodies\, power\, vulnerability\, differences. Gender equality toda
 y.
DTSTART;TZID=Europe/Berlin:20251017T150000
DTEND;TZID=Europe/Berlin:20251017T173000
DTSTAMP:20260420T082601Z
UID:5ccc4c3c63264577aefd4befe36542e0@plone6.unife.it:8059
CATEGORIES:ricerca,terza-missione
CREATED:20251007T083514Z
DESCRIPTION:Press conference & Talk
LAST-MODIFIED:20251016T082949Z
LOCATION:AULA MAGNA - DIPARTIMENTO DI GIURISPRUDENZA
URL:https://de.unife.it/giuri/it/eventi/bodies-power-vulnerability-differe
 nces-geneder-equality-today
END:VEVENT
BEGIN:VTIMEZONE
TZID:Europe/Berlin
X-LIC-LOCATION:Europe/Berlin
BEGIN:DAYLIGHT
DTSTART:20250330T030000
TZNAME:CEST
TZOFFSETFROM:+0100
TZOFFSETTO:+0200
END:DAYLIGHT
END:VTIMEZONE
END:VCALENDAR
