BEGIN:VCALENDAR
VERSION:2.0
PRODID:-//Plone.org//NONSGML plone.app.event//EN
X-WR-TIMEZONE:Europe/Berlin
BEGIN:VEVENT
SUMMARY:Business crime in modern China: causes\, responses\, and policies
DTSTART;TZID=Europe/Berlin:20251204T110000
DTEND;TZID=Europe/Berlin:20251204T130000
DTSTAMP:20260420T083702Z
UID:535242be7f3b456c961af575c1c20cc9@plone6.unife.it:8059
CATEGORIES:ricerca,dottorato,didattica-ferrara
CREATED:20251125T091634Z
LAST-MODIFIED:20251202T131440Z
LOCATION:Dipartimento di Giurisprudenza\, aula 1
URL:https://de.unife.it/giuri/it/eventi/business-crime-in-modern-china-cau
 ses-responses-and-policies
END:VEVENT
BEGIN:VTIMEZONE
TZID:Europe/Berlin
X-LIC-LOCATION:Europe/Berlin
BEGIN:STANDARD
DTSTART:20251026T020000
TZNAME:CET
TZOFFSETFROM:+0200
TZOFFSETTO:+0100
END:STANDARD
END:VTIMEZONE
END:VCALENDAR
