BEGIN:VCALENDAR
VERSION:2.0
PRODID:-//Plone.org//NONSGML plone.app.event//EN
X-WR-TIMEZONE:Europe/Berlin
BEGIN:VEVENT
SUMMARY:Capire per scegliere | Confronto pubblico sul referendum costituzi
 onale del 22-23 marzo
DTSTART;TZID=Europe/Berlin:20260316T110000
DTEND;TZID=Europe/Berlin:20260316T130000
DTSTAMP:20260420T083829Z
UID:944639d099bb431e8acdcd724025c1e9@plone6.unife.it:8059
CATEGORIES:terza-missione
CREATED:20260312T065519Z
LAST-MODIFIED:20260312T070854Z
LOCATION:Dipartimento di Giurisprudenza - Aula Magna
URL:https://de.unife.it/giuri/it/eventi/capire-per-scegliere-confronto-pub
 blico-sul-referendum-costituzionale-del-22-23-marzo
END:VEVENT
BEGIN:VTIMEZONE
TZID:Europe/Berlin
X-LIC-LOCATION:Europe/Berlin
BEGIN:STANDARD
DTSTART:20251026T020000
TZNAME:CET
TZOFFSETFROM:+0200
TZOFFSETTO:+0100
END:STANDARD
END:VTIMEZONE
END:VCALENDAR
