BEGIN:VCALENDAR
VERSION:2.0
PRODID:-//Plone.org//NONSGML plone.app.event//EN
X-WR-TIMEZONE:Europe/Berlin
BEGIN:VEVENT
SUMMARY:La mediazione familiare transfrontaliera
DTSTART;TZID=Europe/Berlin:20241025T150000
DTEND;TZID=Europe/Berlin:20241025T183000
DTSTAMP:20260420T084111Z
UID:1d2587d97e9d4aff8e35f8d1e7b9ea36@plone6.unife.it:8059
CATEGORIES:ricerca,dottorato
CREATED:20241009T090635Z
DESCRIPTION:Ciclo di incontri su sottrazione internazionale di minori – 
 4° incontro: 25 ottobre 2024 |
LAST-MODIFIED:20241011T072857Z
LOCATION:Dipartimento di Giurisprudenza - Sede di Ferrara - Aula Magna
URL:https://de.unife.it/giuri/it/eventi/ciclo-di-incontri-su-sottrazione-i
 nternazionale-di-minori-2013-4deg-incontro-la-mediazione-familiare-transfr
 ontaliera
END:VEVENT
BEGIN:VTIMEZONE
TZID:Europe/Berlin
X-LIC-LOCATION:Europe/Berlin
BEGIN:DAYLIGHT
DTSTART:20240331T030000
TZNAME:CEST
TZOFFSETFROM:+0100
TZOFFSETTO:+0200
END:DAYLIGHT
END:VTIMEZONE
END:VCALENDAR
