BEGIN:VCALENDAR
VERSION:2.0
PRODID:-//Plone.org//NONSGML plone.app.event//EN
X-WR-TIMEZONE:Europe/Berlin
BEGIN:VEVENT
SUMMARY:Ciclo di lezioni per la pace
DTSTART;TZID=Europe/Berlin:20251001T110000
DTEND;TZID=Europe/Berlin:20251031T120000
DTSTAMP:20260420T083425Z
UID:b267cb7bae4e4146868c07356288fc88@plone6.unife.it:8059
CATEGORIES:didattica-rovigo,didattica-ferrara
CREATED:20251003T095251Z
LAST-MODIFIED:20251003T095312Z
LOCATION:Dipartimento di Giurisprudenza
URL:https://de.unife.it/giuri/it/eventi/ciclo-di-lezioni-per-la-pace
END:VEVENT
BEGIN:VTIMEZONE
TZID:Europe/Berlin
X-LIC-LOCATION:Europe/Berlin
BEGIN:DAYLIGHT
DTSTART:20250330T030000
TZNAME:CEST
TZOFFSETFROM:+0100
TZOFFSETTO:+0200
END:DAYLIGHT
BEGIN:STANDARD
DTSTART:20251026T020000
TZNAME:CET
TZOFFSETFROM:+0200
TZOFFSETTO:+0100
END:STANDARD
END:VTIMEZONE
END:VCALENDAR
