BEGIN:VCALENDAR
VERSION:2.0
PRODID:-//Plone.org//NONSGML plone.app.event//EN
X-WR-TIMEZONE:Europe/Berlin
BEGIN:VEVENT
SUMMARY:Ciclo di seminari organizzati nel corso di “Giurisdizione e prev
 enzione della responsabilità da reato delle persone giuridiche”    a.a.
  2024/2025
DTSTART;TZID=Europe/Berlin:20241121T090000
DTEND;TZID=Europe/Berlin:20241213T090000
DTSTAMP:20260420T084025Z
UID:0e04d71b2a7f46b388b3935ccf98cf93@plone6.unife.it:8059
CATEGORIES:didattica-ferrara
CREATED:20241105T113247Z
DESCRIPTION:a.a. 2024/2025
LAST-MODIFIED:20241105T113655Z
URL:https://de.unife.it/giuri/it/eventi/ciclo-di-seminari-organizzati-nel-
 corso-di-201cgiurisdizione-e-prevenzione-della-responsabilita-da-reato-del
 le-persone-giuridiche201d-a-a-2024-2025
END:VEVENT
BEGIN:VTIMEZONE
TZID:Europe/Berlin
X-LIC-LOCATION:Europe/Berlin
BEGIN:STANDARD
DTSTART:20241027T020000
TZNAME:CET
TZOFFSETFROM:+0200
TZOFFSETTO:+0100
END:STANDARD
END:VTIMEZONE
END:VCALENDAR
