BEGIN:VCALENDAR
VERSION:2.0
PRODID:-//Plone.org//NONSGML plone.app.event//EN
X-WR-TIMEZONE:Europe/Berlin
BEGIN:VEVENT
SUMMARY:Conceptions of Equality
DTSTART;TZID=Europe/Berlin:20250225T090000
DTEND;TZID=Europe/Berlin:20250225T110000
DTSTAMP:20260420T081905Z
UID:405d984a024441a4a475bb56aeb11c5f@plone6.unife.it:8059
CREATED:20250221T081825Z
LAST-MODIFIED:20250221T081852Z
LOCATION:Dipartimento di Giurisprudenza - aula 1
URL:https://de.unife.it/giuri/it/eventi/conceptions-of-equality
END:VEVENT
BEGIN:VTIMEZONE
TZID:Europe/Berlin
X-LIC-LOCATION:Europe/Berlin
BEGIN:STANDARD
DTSTART:20241027T020000
TZNAME:CET
TZOFFSETFROM:+0200
TZOFFSETTO:+0100
END:STANDARD
END:VTIMEZONE
END:VCALENDAR
