BEGIN:VCALENDAR
VERSION:2.0
PRODID:-//Plone.org//NONSGML plone.app.event//EN
X-WR-TIMEZONE:Europe/Berlin
BEGIN:VEVENT
SUMMARY:Conferenza | Il terrorismo nazionale ed internazionale tra passato
 \, presente e futuro
DTSTART;TZID=Europe/Berlin:20250506T113000
DTEND;TZID=Europe/Berlin:20250506T133000
DTSTAMP:20260420T095656Z
UID:4b6038cf48ce4a7b8b75aafd9832681c@plone6.unife.it:8059
CATEGORIES:didattica-rovigo,dottorato
CREATED:20250430T081421Z
LAST-MODIFIED:20250430T102542Z
LOCATION:Dip. di Giurisprudenza\, Sede di Rovigo Palazzo Angeli
URL:https://de.unife.it/giuri/it/eventi/conferenza-terrorismo-internaziona
 le-e-nazionale-tra-passato-presente-e-futuro
END:VEVENT
BEGIN:VTIMEZONE
TZID:Europe/Berlin
X-LIC-LOCATION:Europe/Berlin
BEGIN:DAYLIGHT
DTSTART:20250330T030000
TZNAME:CEST
TZOFFSETFROM:+0100
TZOFFSETTO:+0200
END:DAYLIGHT
END:VTIMEZONE
END:VCALENDAR
