BEGIN:VCALENDAR
VERSION:2.0
PRODID:-//Plone.org//NONSGML plone.app.event//EN
X-WR-TIMEZONE:Europe/Berlin
BEGIN:VEVENT
SUMMARY:Contratti di credito e protezione del consumatore nella più recen
 te giurisprudenza europea
DTSTART;TZID=Europe/Berlin:20250404T150000
DTEND;TZID=Europe/Berlin:20250404T170000
DTSTAMP:20260420T083852Z
UID:6ed052bd157a4d27a31400cbe12a8989@plone6.unife.it:8059
CATEGORIES:dottorato
CREATED:20250203T120326Z
LAST-MODIFIED:20250206T161653Z
LOCATION:Sala Carlassare - Dipartimento di Giurisprudenza - Sede di Ferrar
 a
URL:https://de.unife.it/giuri/it/eventi/contratti-di-credito-e-protezione-
 del-consumatore-nella-piu-recente-giurisprudenza-europea
END:VEVENT
BEGIN:VTIMEZONE
TZID:Europe/Berlin
X-LIC-LOCATION:Europe/Berlin
BEGIN:DAYLIGHT
DTSTART:20250330T030000
TZNAME:CEST
TZOFFSETFROM:+0100
TZOFFSETTO:+0200
END:DAYLIGHT
END:VTIMEZONE
END:VCALENDAR
