BEGIN:VCALENDAR
VERSION:2.0
PRODID:-//Plone.org//NONSGML plone.app.event//EN
X-WR-TIMEZONE:Europe/Berlin
BEGIN:VEVENT
SUMMARY:Coop4LESS - Cooperatives for Legal\, Environmental and Social Sust
 ainability
DTSTART;TZID=Europe/Berlin:20240531T150000
DTSTAMP:20260420T095729Z
UID:8cdaed8ab7114447b95b16c798d74b64@plone6.unife.it:8059
CATEGORIES:ricerca
CREATED:20240628T070916Z
DESCRIPTION:Evento conclusivo del progetto di ricerca finanziato con i fon
 di 5 per mille 2021 dell’Università di Ferrara (bando Giovani 2023)
LAST-MODIFIED:20240708T120816Z
LOCATION:Sala Carlassare\, Dipartimento di Giurisprudenza - sede di Ferrar
 a
URL:https://de.unife.it/giuri/it/eventi/coop4less-cooperatives-for-legal-e
 nvironmental-and-social-sustainability
END:VEVENT
BEGIN:VTIMEZONE
TZID:Europe/Berlin
X-LIC-LOCATION:Europe/Berlin
BEGIN:DAYLIGHT
DTSTART:20240331T030000
TZNAME:CEST
TZOFFSETFROM:+0100
TZOFFSETTO:+0200
END:DAYLIGHT
END:VTIMEZONE
END:VCALENDAR
