BEGIN:VCALENDAR
VERSION:2.0
PRODID:-//Plone.org//NONSGML plone.app.event//EN
X-WR-TIMEZONE:Europe/Berlin
BEGIN:VEVENT
SUMMARY:Costanti e variabili nel diritto delle prove penali
DTSTART;TZID=Europe/Berlin:20251023T150000
DTEND;TZID=Europe/Berlin:20251025T123000
DTSTAMP:20260420T082924Z
UID:b931be6303dd4ff0bdba320fd318c5c8@plone6.unife.it:8059
CATEGORIES:terza-missione,ricerca
CREATED:20251016T125033Z
LAST-MODIFIED:20251016T125602Z
LOCATION:Aula Magna del Dipartimento di Giurisprudenza
URL:https://de.unife.it/giuri/it/eventi/costanti-e-variabili-nel-diritto-d
 elle-prove-penali
END:VEVENT
BEGIN:VTIMEZONE
TZID:Europe/Berlin
X-LIC-LOCATION:Europe/Berlin
BEGIN:DAYLIGHT
DTSTART:20250330T030000
TZNAME:CEST
TZOFFSETFROM:+0100
TZOFFSETTO:+0200
END:DAYLIGHT
END:VTIMEZONE
END:VCALENDAR
