BEGIN:VCALENDAR
VERSION:2.0
PRODID:-//Plone.org//NONSGML plone.app.event//EN
X-WR-TIMEZONE:Europe/Berlin
BEGIN:VEVENT
SUMMARY:DATI BIOMETRICI E PROCEDIMENTO PENALE - Tra profili operativi ed e
 sperienze giudiziarie
DTSTART;TZID=Europe/Berlin:20250324T150000
DTEND;TZID=Europe/Berlin:20250324T180000
DTSTAMP:20260420T083835Z
UID:251f930ad4284425acd57603334d5a76@plone6.unife.it:8059
CATEGORIES:ricerca
CREATED:20250312T090459Z
LAST-MODIFIED:20250312T090814Z
LOCATION:Dipartimento di Giurisprudenza\, Sala Lorenza Carlassare
URL:https://de.unife.it/giuri/it/eventi/dati-biometrici-e-procedimento-pen
 ale-tra-profili-operativi-ed-esperienze-giudiziarie
END:VEVENT
BEGIN:VTIMEZONE
TZID:Europe/Berlin
X-LIC-LOCATION:Europe/Berlin
BEGIN:STANDARD
DTSTART:20241027T020000
TZNAME:CET
TZOFFSETFROM:+0200
TZOFFSETTO:+0100
END:STANDARD
END:VTIMEZONE
END:VCALENDAR
