BEGIN:VCALENDAR
VERSION:2.0
PRODID:-//Plone.org//NONSGML plone.app.event//EN
X-WR-TIMEZONE:Europe/Berlin
BEGIN:VEVENT
SUMMARY:"Decreto Sicurezza” e Stato di diritto\,  tra principi penali e 
 istanze securitarie
DTSTART;TZID=Europe/Berlin:20251124T103000
DTEND;TZID=Europe/Berlin:20251124T133000
DTSTAMP:20260420T083657Z
UID:836187717bfa43dc9d1b96dc9167b1b2@plone6.unife.it:8059
CATEGORIES:didattica-ferrara,dottorato
CREATED:20251030T104635Z
LAST-MODIFIED:20251030T104720Z
LOCATION:Dipartimento di Giurisprudenza\, Aula 1
URL:https://de.unife.it/giuri/it/eventi/decreto-sicurezza201d-e-stato-di-d
 iritto-tra-principi-penali-e-istanze-securitarie
END:VEVENT
BEGIN:VTIMEZONE
TZID:Europe/Berlin
X-LIC-LOCATION:Europe/Berlin
BEGIN:STANDARD
DTSTART:20251026T020000
TZNAME:CET
TZOFFSETFROM:+0200
TZOFFSETTO:+0100
END:STANDARD
END:VTIMEZONE
END:VCALENDAR
