BEGIN:VCALENDAR
VERSION:2.0
PRODID:-//Plone.org//NONSGML plone.app.event//EN
X-WR-TIMEZONE:Europe/Berlin
BEGIN:VEVENT
SUMMARY:DIALOGO IN TEMA DI REATI CONTRO LA PUBBLICA AMMINISTRAZIONE TRA RI
 FORME E ISTANZE DI ILLEGITTIMITÀ COSTITUZIONALE
DTSTART;TZID=Europe/Berlin:20241115T150000
DTEND;TZID=Europe/Berlin:20241115T180000
DTSTAMP:20260420T084112Z
UID:f621e68cb70244ba98d12f91cae70c00@plone6.unife.it:8059
CATEGORIES:terza-missione
CREATED:20241114T075036Z
LAST-MODIFIED:20241114T075142Z
LOCATION:Dipartimento di Giurisprudenza - Sede di Ferrara - Aula Magna
URL:https://de.unife.it/giuri/it/eventi/dialogo-in-tema-di-reati-contro-la
 -pubblica-amministrazione-tra-riforme-e-istanze-di-illegittimita-costituzi
 onale-1
END:VEVENT
BEGIN:VTIMEZONE
TZID:Europe/Berlin
X-LIC-LOCATION:Europe/Berlin
BEGIN:STANDARD
DTSTART:20241027T020000
TZNAME:CET
TZOFFSETFROM:+0200
TZOFFSETTO:+0100
END:STANDARD
END:VTIMEZONE
END:VCALENDAR
