BEGIN:VCALENDAR
VERSION:2.0
PRODID:-//Plone.org//NONSGML plone.app.event//EN
X-WR-TIMEZONE:Europe/Berlin
BEGIN:VEVENT
SUMMARY:Didattica\, Law Clinic\, Giustizia Sociale e Territorio
DTSTART;TZID=Europe/Berlin:20250307T150000
DTEND;TZID=Europe/Berlin:20250307T170000
DTSTAMP:20260420T083650Z
UID:f0993aa7a354492793758a6e3f682d07@plone6.unife.it:8059
CREATED:20250304T080307Z
LAST-MODIFIED:20250304T081222Z
LOCATION:Dipartimento di Giurisprudenza - aula 2 - Sede di Ferrara
URL:https://de.unife.it/giuri/it/eventi/didattica-law-clinic-giustizia-soc
 iale-e-territorio
END:VEVENT
BEGIN:VTIMEZONE
TZID:Europe/Berlin
X-LIC-LOCATION:Europe/Berlin
BEGIN:STANDARD
DTSTART:20241027T020000
TZNAME:CET
TZOFFSETFROM:+0200
TZOFFSETTO:+0100
END:STANDARD
END:VTIMEZONE
END:VCALENDAR
