BEGIN:VCALENDAR
VERSION:2.0
PRODID:-//Plone.org//NONSGML plone.app.event//EN
X-WR-TIMEZONE:Europe/Berlin
BEGIN:VEVENT
SUMMARY:Diritto all’ascolto e alla partecipazione in un mondo che cambia
DTSTART;TZID=Europe/Berlin:20250909T143000
DTEND;TZID=Europe/Berlin:20250909T183000
DTSTAMP:20260420T083703Z
UID:f59db787aa20402bb6b648876cdad2a7@plone6.unife.it:8059
CREATED:20250620T080357Z
LAST-MODIFIED:20250917T124706Z
LOCATION:Aula Magna Luigi Costato - Palazzo Angeli - Rovigo
URL:https://de.unife.it/giuri/it/eventi/diritto-ascolto-e-partecipazione-i
 n-un-mondo-che-cambia
END:VEVENT
BEGIN:VTIMEZONE
TZID:Europe/Berlin
X-LIC-LOCATION:Europe/Berlin
BEGIN:DAYLIGHT
DTSTART:20250330T030000
TZNAME:CEST
TZOFFSETFROM:+0100
TZOFFSETTO:+0200
END:DAYLIGHT
END:VTIMEZONE
END:VCALENDAR
