BEGIN:VCALENDAR
VERSION:2.0
PRODID:-//Plone.org//NONSGML plone.app.event//EN
X-WR-TIMEZONE:Europe/Berlin
BEGIN:VEVENT
SUMMARY:Economia cislunare e sviluppo civile dello spazio\, il ruolo chiav
 e dell’Italia
DTSTART;TZID=Europe/Berlin:20250613T090000
DTEND;TZID=Europe/Berlin:20250615T120000
DTSTAMP:20260420T084020Z
UID:ae3829b758ba462abc4f2085a97e0e9e@plone6.unife.it:8059
CATEGORIES:ricerca
CREATED:20250612T125107Z
DESCRIPTION:Terzo Congresso Nazionale di Space Renaissance Italia – Univ
 ersità Magna Graecia Catanzaro\, patrocinato dal Centro Interuniversitari
 o di Ricerca e Studi sul Diritto Aeronautico e Aerospaziale (CIDAA)
LAST-MODIFIED:20251110T082758Z
URL:https://de.unife.it/giuri/it/eventi/economia-cislunare-e-sviluppo-civi
 le-dello-spazio-il-ruolo-chiave-dell2019italia-1
END:VEVENT
BEGIN:VTIMEZONE
TZID:Europe/Berlin
X-LIC-LOCATION:Europe/Berlin
BEGIN:DAYLIGHT
DTSTART:20250330T030000
TZNAME:CEST
TZOFFSETFROM:+0100
TZOFFSETTO:+0200
END:DAYLIGHT
END:VTIMEZONE
END:VCALENDAR
