BEGIN:VCALENDAR
VERSION:2.0
PRODID:-//Plone.org//NONSGML plone.app.event//EN
X-WR-TIMEZONE:Europe/Berlin
BEGIN:VEVENT
SUMMARY:Esposizione ad amianto e responsabilità penale
DTSTART;TZID=Europe/Berlin:20241213T143000
DTEND;TZID=Europe/Berlin:20241213T183000
DTSTAMP:20260420T083651Z
UID:9d0cb6317e99466a9004963c32e09b82@plone6.unife.it:8059
CATEGORIES:dottorato,ricerca
CREATED:20241128T093823Z
DESCRIPTION:L’esperienza spagnola e italiana a confronto
LAST-MODIFIED:20250127T092307Z
LOCATION:Dipartimento di Giurisprudenza - Sala Carlassare
URL:https://de.unife.it/giuri/it/eventi/esposizione-ad-amianto-e-responsab
 ilita-penale
END:VEVENT
BEGIN:VTIMEZONE
TZID:Europe/Berlin
X-LIC-LOCATION:Europe/Berlin
BEGIN:STANDARD
DTSTART:20241027T020000
TZNAME:CET
TZOFFSETFROM:+0200
TZOFFSETTO:+0100
END:STANDARD
END:VTIMEZONE
END:VCALENDAR
