BEGIN:VCALENDAR
VERSION:2.0
PRODID:-//Plone.org//NONSGML plone.app.event//EN
X-WR-TIMEZONE:Europe/Berlin
BEGIN:VEVENT
SUMMARY:Fattore religioso\, regole dell’emergenza e sviluppo sostenibile
DTSTART;TZID=Europe/Berlin:20250224T140000
DTEND;TZID=Europe/Berlin:20250225T120000
DTSTAMP:20260420T083829Z
UID:bdaee0da1b0f461f86cf4260566543fa@plone6.unife.it:8059
CREATED:20250220T144136Z
LAST-MODIFIED:20250220T144151Z
URL:https://de.unife.it/giuri/it/eventi/fattore-religioso-regole-dell2019e
 mergenza-e-sviluppo-sostenibile
END:VEVENT
BEGIN:VTIMEZONE
TZID:Europe/Berlin
X-LIC-LOCATION:Europe/Berlin
BEGIN:STANDARD
DTSTART:20241027T020000
TZNAME:CET
TZOFFSETFROM:+0200
TZOFFSETTO:+0100
END:STANDARD
END:VTIMEZONE
END:VCALENDAR
