BEGIN:VCALENDAR
VERSION:2.0
PRODID:-//Plone.org//NONSGML plone.app.event//EN
X-WR-TIMEZONE:Europe/Berlin
BEGIN:VEVENT
SUMMARY:Giacomo Matteotti\, il carcere e la giustizia penale
DTSTART;TZID=Europe/Berlin:20240926T100000
DTEND;TZID=Europe/Berlin:20240926T130000
DTSTAMP:20260420T083702Z
UID:3f033ccc88d0494eb08974bcc6197e1e@plone6.unife.it:8059
CATEGORIES:terza-missione
CREATED:20240925T094747Z
LAST-MODIFIED:20240925T133810Z
URL:https://de.unife.it/giuri/it/eventi/giacomo-matteotti-il-carcere-e-la-
 giustizia-penale
END:VEVENT
BEGIN:VTIMEZONE
TZID:Europe/Berlin
X-LIC-LOCATION:Europe/Berlin
BEGIN:DAYLIGHT
DTSTART:20240331T030000
TZNAME:CEST
TZOFFSETFROM:+0100
TZOFFSETTO:+0200
END:DAYLIGHT
END:VTIMEZONE
END:VCALENDAR
