BEGIN:VCALENDAR
VERSION:2.0
PRODID:-//Plone.org//NONSGML plone.app.event//EN
X-WR-TIMEZONE:Europe/Berlin
BEGIN:VEVENT
SUMMARY:Giornata internazionale per l'eliminazione della violenza contro l
 e donne
DTSTART;TZID=Europe/Berlin:20251125T090000
DTEND;TZID=Europe/Berlin:20251125T133000
DTSTAMP:20260420T095812Z
UID:67488419432c4887930143002a6364b0@plone6.unife.it:8059
CATEGORIES:didattica-rovigo,terza-missione,dottorato
CREATED:20251028T140530Z
DESCRIPTION:PERCORSI DI FORMAZIONE PER L’EDUCAZIONE CIVICA
LAST-MODIFIED:20251105T104140Z
LOCATION:Dipartimento di Giurisprudenza\, Palazzo Angeli\, Aula Magna “L
 uigi Costato”
URL:https://de.unife.it/giuri/it/eventi/giornata-internazionale-per-lelimi
 nazione-della-violenza-contro-le-donne-1
END:VEVENT
BEGIN:VTIMEZONE
TZID:Europe/Berlin
X-LIC-LOCATION:Europe/Berlin
BEGIN:STANDARD
DTSTART:20251026T020000
TZNAME:CET
TZOFFSETFROM:+0200
TZOFFSETTO:+0100
END:STANDARD
END:VTIMEZONE
END:VCALENDAR
