BEGIN:VCALENDAR
VERSION:2.0
PRODID:-//Plone.org//NONSGML plone.app.event//EN
X-WR-TIMEZONE:Europe/Berlin
BEGIN:VEVENT
SUMMARY:Giornata internazionale per l'eliminazione della violenza contro l
 e donne
DTSTART;TZID=Europe/Berlin:20241125T100000
DTEND;TZID=Europe/Berlin:20241125T170000
DTSTAMP:20260420T083829Z
UID:a4399601ca4548019595fd35ecc528ef@plone6.unife.it:8059
CATEGORIES:terza-missione,dottorato
CREATED:20241008T080837Z
DESCRIPTION:Nel segno della Convenzione di Istanbul il Dipartimento di Giu
 risprudenza dell’Università degli Studi di Ferrara e la Questura di Rov
 igo organizzano un incontro di studi in occasione della “GIORNATA INTERN
 AZIONALE PER L’ELIMINAZIONE DELLA VIOLENZA CONTRO LE DONNE”.
LAST-MODIFIED:20241011T073618Z
LOCATION:Aula Magna di Palazzo Angeli - Rovigo
URL:https://de.unife.it/giuri/it/eventi/giornata-internazionale-per-lelimi
 nazione-della-violenza-contro-le-donne
END:VEVENT
BEGIN:VTIMEZONE
TZID:Europe/Berlin
X-LIC-LOCATION:Europe/Berlin
BEGIN:STANDARD
DTSTART:20241027T020000
TZNAME:CET
TZOFFSETFROM:+0200
TZOFFSETTO:+0100
END:STANDARD
END:VTIMEZONE
END:VCALENDAR
