BEGIN:VCALENDAR
VERSION:2.0
PRODID:-//Plone.org//NONSGML plone.app.event//EN
X-WR-TIMEZONE:Europe/Berlin
BEGIN:VEVENT
SUMMARY:Giuri Orienta | Diritto e professioni
DTSTART;TZID=Europe/Berlin:20251128T173000
DTEND;TZID=Europe/Berlin:20251128T183000
DTSTAMP:20260420T082601Z
UID:32bc05d4b7b34019b2df8f9c5b5db7d9@plone6.unife.it:8059
CATEGORIES:didattica-ferrara,didattica-rovigo
CREATED:20251125T125817Z
LAST-MODIFIED:20251125T130849Z
LOCATION:L'incontro si svolgerà online
URL:https://de.unife.it/giuri/it/eventi/giuri-orienta-diritto-e-profession
 i
END:VEVENT
BEGIN:VTIMEZONE
TZID:Europe/Berlin
X-LIC-LOCATION:Europe/Berlin
BEGIN:STANDARD
DTSTART:20251026T020000
TZNAME:CET
TZOFFSETFROM:+0200
TZOFFSETTO:+0100
END:STANDARD
END:VTIMEZONE
END:VCALENDAR
