BEGIN:VCALENDAR
VERSION:2.0
PRODID:-//Plone.org//NONSGML plone.app.event//EN
X-WR-TIMEZONE:Europe/Berlin
BEGIN:VEVENT
SUMMARY:Giuri Orienta | L'ingresso nel mondo del lavoro
DTSTART;TZID=Europe/Berlin:20251118T090000
DTEND;TZID=Europe/Berlin:20251119T190000
DTSTAMP:20260420T095729Z
UID:da9df7e448654941890e57d2f5844f78@plone6.unife.it:8059
CATEGORIES:didattica-ferrara,didattica-rovigo
CREATED:20251106T095404Z
LAST-MODIFIED:20251117T070726Z
LOCATION:Dipartimento di Giurisprudenza\, sedi di Ferrara e Rovigo
URL:https://de.unife.it/giuri/it/eventi/giuri-orienta-lingresso-nel-mondo-
 del-lavoro
END:VEVENT
BEGIN:VTIMEZONE
TZID:Europe/Berlin
X-LIC-LOCATION:Europe/Berlin
BEGIN:STANDARD
DTSTART:20251026T020000
TZNAME:CET
TZOFFSETFROM:+0200
TZOFFSETTO:+0100
END:STANDARD
END:VTIMEZONE
END:VCALENDAR
