BEGIN:VCALENDAR
VERSION:2.0
PRODID:-//Plone.org//NONSGML plone.app.event//EN
X-WR-TIMEZONE:Europe/Berlin
BEGIN:VEVENT
SUMMARY:Giustizia e società contemporanea. Sulle orme di Giacomo Matteott
 i penalista
DTSTART;TZID=Europe/Berlin:20240531T143000
DTEND;TZID=Europe/Berlin:20240606T133000
DTSTAMP:20260420T083857Z
UID:67c8f8668bb447f7913856ba927dfdf6@plone6.unife.it:8059
CATEGORIES:didattica-ferrara
CREATED:20240708T121338Z
DESCRIPTION:MACROCRIMES SPRING SCHOOL 2024
LAST-MODIFIED:20240710T072243Z
LOCATION:Aula Magna\, Dipartimento di Giurisprudenza - sede di Rovigo e di
  Ferrara
URL:https://de.unife.it/giuri/it/eventi/giustizia-e-societa-contemporanea-
 sulle-orme-di-giacomo-matteotti-penalista
END:VEVENT
BEGIN:VTIMEZONE
TZID:Europe/Berlin
X-LIC-LOCATION:Europe/Berlin
BEGIN:DAYLIGHT
DTSTART:20240331T030000
TZNAME:CEST
TZOFFSETFROM:+0100
TZOFFSETTO:+0200
END:DAYLIGHT
END:VTIMEZONE
END:VCALENDAR
