BEGIN:VCALENDAR
VERSION:2.0
PRODID:-//Plone.org//NONSGML plone.app.event//EN
X-WR-TIMEZONE:Europe/Berlin
BEGIN:VEVENT
SUMMARY:Global Minimum Tax and Impact on Tax Incentives
DTSTART;TZID=Europe/Berlin:20251119T120000
DTEND;TZID=Europe/Berlin:20251119T133000
DTSTAMP:20260420T083724Z
UID:e3dbefc59541478299bba5258565f728@plone6.unife.it:8059
CATEGORIES:dottorato,ricerca
CREATED:20251110T084730Z
DESCRIPTION:The latest developments of the US/G7-Side-by-Side-Agreement
LAST-MODIFIED:20251110T085756Z
LOCATION:Department of Law - Meeting Hall
URL:https://de.unife.it/giuri/it/eventi/global-minimum-tax-and-impact-on-t
 ax-incentives
END:VEVENT
BEGIN:VTIMEZONE
TZID:Europe/Berlin
X-LIC-LOCATION:Europe/Berlin
BEGIN:STANDARD
DTSTART:20251026T020000
TZNAME:CET
TZOFFSETFROM:+0200
TZOFFSETTO:+0100
END:STANDARD
END:VTIMEZONE
END:VCALENDAR
