BEGIN:VCALENDAR
VERSION:2.0
PRODID:-//Plone.org//NONSGML plone.app.event//EN
X-WR-TIMEZONE:Europe/Berlin
BEGIN:VEVENT
SUMMARY:I contratti del mercato finanziario. Questioni applicative irrisol
 te e problemi attuali
DTSTART;TZID=Europe/Berlin:20250314T150000
DTEND;TZID=Europe/Berlin:20250314T180000
DTSTAMP:20260420T095657Z
UID:cb1d58d2f52948e688057bf387236b80@plone6.unife.it:8059
CATEGORIES:dottorato
CREATED:20250115T150815Z
LAST-MODIFIED:20250206T161559Z
LOCATION:Sala Carlassare - Dipartimento di Giurisprudenza - Sede di Ferrar
 a
URL:https://de.unife.it/giuri/it/eventi/i-contratti-del-mercato-finanziari
 o-questioni-applicative-irrisolte-e-problemi-attuali
END:VEVENT
BEGIN:VTIMEZONE
TZID:Europe/Berlin
X-LIC-LOCATION:Europe/Berlin
BEGIN:STANDARD
DTSTART:20241027T020000
TZNAME:CET
TZOFFSETFROM:+0200
TZOFFSETTO:+0100
END:STANDARD
END:VTIMEZONE
END:VCALENDAR
