BEGIN:VCALENDAR
VERSION:2.0
PRODID:-//Plone.org//NONSGML plone.app.event//EN
X-WR-TIMEZONE:Europe/Berlin
BEGIN:VEVENT
SUMMARY:I derivati degli enti locali
DTSTART;TZID=Europe/Berlin:20251031T143000
DTEND;TZID=Europe/Berlin:20251031T183000
DTSTAMP:20260420T082924Z
UID:cb3bbba49f5e4b50bd472800143b3166@plone6.unife.it:8059
CATEGORIES:dottorato
CREATED:20250925T103206Z
LAST-MODIFIED:20250930T143227Z
LOCATION:AULA MAGNA - DIPARTIMENTO DI GIURISPRUDENZA
URL:https://de.unife.it/giuri/it/eventi/i-derivati-degli-enti-locali
END:VEVENT
BEGIN:VTIMEZONE
TZID:Europe/Berlin
X-LIC-LOCATION:Europe/Berlin
BEGIN:STANDARD
DTSTART:20251026T020000
TZNAME:CET
TZOFFSETFROM:+0200
TZOFFSETTO:+0100
END:STANDARD
END:VTIMEZONE
END:VCALENDAR
