BEGIN:VCALENDAR
VERSION:2.0
PRODID:-//Plone.org//NONSGML plone.app.event//EN
X-WR-TIMEZONE:Europe/Berlin
BEGIN:VEVENT
SUMMARY:Il diritto alla vita indipendente delle persone anziane: una quest
 ione di giustizia spaziale
DTSTART;TZID=Europe/Berlin:20251113T150000
DTEND;TZID=Europe/Berlin:20251114T133000
DTSTAMP:20260420T095937Z
UID:5b55ec3d28994f50b13459a94c38f702@plone6.unife.it:8059
CATEGORIES:ricerca
CREATED:20251105T113550Z
DESCRIPTION:CONVEGNO FINALE PRIN PNRR 2022
LAST-MODIFIED:20251107T102007Z
LOCATION:Dipartimento di Giurisprudenza - Sala Consiliare “Lorenza Carla
 ssare”
URL:https://de.unife.it/giuri/it/eventi/il-diritto-alla-vita-indipendente-
 delle-persone-anziane-una-questione-di-giustizia-spaziale
END:VEVENT
BEGIN:VTIMEZONE
TZID:Europe/Berlin
X-LIC-LOCATION:Europe/Berlin
BEGIN:STANDARD
DTSTART:20251026T020000
TZNAME:CET
TZOFFSETFROM:+0200
TZOFFSETTO:+0100
END:STANDARD
END:VTIMEZONE
END:VCALENDAR
