BEGIN:VCALENDAR
VERSION:2.0
PRODID:-//Plone.org//NONSGML plone.app.event//EN
X-WR-TIMEZONE:Europe/Berlin
BEGIN:VEVENT
SUMMARY:Il governo dei cambiamenti climatici: profili costituzionali e amm
 inistrativi
DTSTART;TZID=Europe/Berlin:20240607T100000
DTEND;TZID=Europe/Berlin:20240607T170000
DTSTAMP:20260420T083853Z
UID:c555b51fa58d4fe5b4df9bcd7c4c71f8@plone6.unife.it:8059
CATEGORIES:dottorato
CREATED:20240628T113934Z
LAST-MODIFIED:20240708T120509Z
LOCATION:Sala Carlassare\, Dipartimento di Giurisprudenza - sede di Ferrar
 a
URL:https://de.unife.it/giuri/it/eventi/il-governo-dei-cambiamenti-climati
 ci-profili-costituzionali-e-amministrativi
END:VEVENT
BEGIN:VTIMEZONE
TZID:Europe/Berlin
X-LIC-LOCATION:Europe/Berlin
BEGIN:DAYLIGHT
DTSTART:20240331T030000
TZNAME:CEST
TZOFFSETFROM:+0100
TZOFFSETTO:+0200
END:DAYLIGHT
END:VTIMEZONE
END:VCALENDAR
