BEGIN:VCALENDAR
VERSION:2.0
PRODID:-//Plone.org//NONSGML plone.app.event//EN
X-WR-TIMEZONE:Europe/Berlin
BEGIN:VEVENT
SUMMARY:Il Mediterraneo: cultura\, gestione\, conflitti\, migrazioni
DTSTART;TZID=Europe/Berlin:20241128T090000
DTEND;TZID=Europe/Berlin:20241128T110000
DTSTAMP:20260420T083836Z
UID:87ac711a103b4e6c8ab2da20fe3c63a4@plone6.unife.it:8059
CATEGORIES:dottorato,didattica-ferrara,didattica-rovigo
CREATED:20241119T095507Z
DESCRIPTION:Nell’ambito del corso di Diritto internazionale (Sedi di Fer
 rara e Rovigo)
LAST-MODIFIED:20241119T095525Z
URL:https://de.unife.it/giuri/it/eventi/il-mediterraneo-cultura-gestione-c
 onflitti-migrazioni
END:VEVENT
BEGIN:VTIMEZONE
TZID:Europe/Berlin
X-LIC-LOCATION:Europe/Berlin
BEGIN:STANDARD
DTSTART:20241027T020000
TZNAME:CET
TZOFFSETFROM:+0200
TZOFFSETTO:+0100
END:STANDARD
END:VTIMEZONE
END:VCALENDAR
