BEGIN:VCALENDAR
VERSION:2.0
PRODID:-//Plone.org//NONSGML plone.app.event//EN
X-WR-TIMEZONE:Europe/Berlin
BEGIN:VEVENT
SUMMARY:Il principio della buona fede nel diritto internazionale e nel dir
 itto dell'Unione Europea
DTSTART;TZID=Europe/Berlin:20251204T130000
DTEND;TZID=Europe/Berlin:20251205T130000
DTSTAMP:20260420T083852Z
UID:f3e37429b381493b9a7429ca79f9b29d@plone6.unife.it:8059
CATEGORIES:ricerca,dottorato
CREATED:20251027T114208Z
DESCRIPTION:XXII INCONTRO DI STUDIO TRA GIOVANI STUDIOSI DELLE MATERIE INT
 ERNAZIONALISTICHE
LAST-MODIFIED:20251124T112519Z
LOCATION:Dipartimento di Giurisprudenza\, Sala “Lorenza Carlassare”
URL:https://de.unife.it/giuri/it/eventi/il-principio-della-buona-fede-nel-
 diritto-internazionale-e-nel-diritto-dellunione-europea
END:VEVENT
BEGIN:VTIMEZONE
TZID:Europe/Berlin
X-LIC-LOCATION:Europe/Berlin
BEGIN:STANDARD
DTSTART:20251026T020000
TZNAME:CET
TZOFFSETFROM:+0200
TZOFFSETTO:+0100
END:STANDARD
END:VTIMEZONE
END:VCALENDAR
