BEGIN:VCALENDAR
VERSION:2.0
PRODID:-//Plone.org//NONSGML plone.app.event//EN
X-WR-TIMEZONE:Europe/Berlin
BEGIN:VEVENT
SUMMARY:Il private enforcement del diritto UE\, oltre l’effetto diretto 
 - Sanzioni\, risarcimenti e ulteriori rimedi privatistici nei rapporti ori
 zzontali
DTSTART;TZID=Europe/Berlin:20251127T140000
DTEND;TZID=Europe/Berlin:20251128T163000
DTSTAMP:20260420T095830Z
UID:f1bc67b82fec4ff19c776c0cd1d7c2d3@plone6.unife.it:8059
CATEGORIES:dottorato
CREATED:20251010T104805Z
DESCRIPTION:Convegno annuale del dottorato in Diritto dell’Unione europe
 a e ordinamenti nazionali
LAST-MODIFIED:20251015T102957Z
LOCATION:Palazzo Angeli - Aula magna Luigi Costato - Rovigo
URL:https://de.unife.it/giuri/it/eventi/il-private-enforcement-del-diritto
 -ue-oltre-l2019effetto-diretto-sanzioni-risarcimenti-e-ulteriori-rimedi-pr
 ivatistici-nei-rapporti-orizzontali
END:VEVENT
BEGIN:VTIMEZONE
TZID:Europe/Berlin
X-LIC-LOCATION:Europe/Berlin
BEGIN:STANDARD
DTSTART:20251026T020000
TZNAME:CET
TZOFFSETFROM:+0200
TZOFFSETTO:+0100
END:STANDARD
END:VTIMEZONE
END:VCALENDAR
