BEGIN:VCALENDAR
VERSION:2.0
PRODID:-//Plone.org//NONSGML plone.app.event//EN
X-WR-TIMEZONE:Europe/Berlin
BEGIN:VEVENT
SUMMARY:Il processo amministrativo nella prospettiva del cointeressato
DTSTART;TZID=Europe/Berlin:20251118T140000
DTEND;TZID=Europe/Berlin:20251118T160000
DTSTAMP:20260420T083829Z
UID:8e1b73b08edb4735b0590d8cfb0952e3@plone6.unife.it:8059
CATEGORIES:dottorato,ricerca
CREATED:20251114T072252Z
LAST-MODIFIED:20251114T072311Z
LOCATION:Dipartimento di Giurisprudenza\,  Sala Consiliare “Lorenza Carl
 assare”
URL:https://de.unife.it/giuri/it/eventi/il-processo-amministrativo-nella-p
 rospettiva-del-cointeressato
END:VEVENT
BEGIN:VTIMEZONE
TZID:Europe/Berlin
X-LIC-LOCATION:Europe/Berlin
BEGIN:STANDARD
DTSTART:20251026T020000
TZNAME:CET
TZOFFSETFROM:+0200
TZOFFSETTO:+0100
END:STANDARD
END:VTIMEZONE
END:VCALENDAR
