BEGIN:VCALENDAR
VERSION:2.0
PRODID:-//Plone.org//NONSGML plone.app.event//EN
X-WR-TIMEZONE:Europe/Berlin
BEGIN:VEVENT
SUMMARY:Il Regolamento europeo sull’intelligenza artificiale: una prospe
 ttiva multidisciplinare
DTSTART;TZID=Europe/Berlin:20241114T150000
DTEND;TZID=Europe/Berlin:20241115T110000
DTSTAMP:20260420T083724Z
UID:ea60743f8b95493397922ea55d405fdf@plone6.unife.it:8059
CATEGORIES:ricerca,dottorato
CREATED:20241015T094034Z
DESCRIPTION:Convegno annuale Dottorato di ricerca in Diritto dell'Unione e
 uropea e ordinamenti nazionali
LAST-MODIFIED:20241022T085738Z
LOCATION:Dipartimento di Giurisprudenza - Sede di Rovigo - AULA MAGNA
URL:https://de.unife.it/giuri/it/eventi/il-regolamento-europeo-sull2019int
 elligenza-artificiale-una-prospettiva-multidisciplinare
END:VEVENT
BEGIN:VTIMEZONE
TZID:Europe/Berlin
X-LIC-LOCATION:Europe/Berlin
BEGIN:STANDARD
DTSTART:20241027T020000
TZNAME:CET
TZOFFSETFROM:+0200
TZOFFSETTO:+0100
END:STANDARD
END:VTIMEZONE
END:VCALENDAR
