BEGIN:VCALENDAR
VERSION:2.0
PRODID:-//Plone.org//NONSGML plone.app.event//EN
X-WR-TIMEZONE:Europe/Berlin
BEGIN:VEVENT
SUMMARY:Incontro | Pluralismo e libertà di informazione nell'era della co
 municazione digitale
DTSTART;TZID=Europe/Berlin:20241203T180000
DTEND;TZID=Europe/Berlin:20241203T190000
DTSTAMP:20260420T083836Z
UID:98e088f0408d4d7fbdec8bc534e23412@plone6.unife.it:8059
CATEGORIES:terza-missione
CREATED:20241111T113535Z
DESCRIPTION:Dialogo a partire dal Volume di G. Gardini\, Le regole dell’
 informazione\, Giappichelli\, VI ed.\, 2024
LAST-MODIFIED:20241111T113622Z
LOCATION:Libreria Feltrinelli - Ferrara via Garibaldi\, 28/30
URL:https://de.unife.it/giuri/it/eventi/incontro-pluralismo-e-liberta-di-i
 nformazione-nellera-della-comunicazione-digitale
END:VEVENT
BEGIN:VTIMEZONE
TZID:Europe/Berlin
X-LIC-LOCATION:Europe/Berlin
BEGIN:STANDARD
DTSTART:20241027T020000
TZNAME:CET
TZOFFSETFROM:+0200
TZOFFSETTO:+0100
END:STANDARD
END:VTIMEZONE
END:VCALENDAR
