BEGIN:VCALENDAR
VERSION:2.0
PRODID:-//Plone.org//NONSGML plone.app.event//EN
X-WR-TIMEZONE:Europe/Berlin
BEGIN:VEVENT
SUMMARY:Intercettazione e difesa dello spazio aereo
DTSTART;TZID=Europe/Berlin:20240624T103000
DTEND;TZID=Europe/Berlin:20240625T140000
DTSTAMP:20260420T095524Z
UID:8568b53ae14b4fa8930f5a82d947d711@plone6.unife.it:8059
CATEGORIES:ricerca
CREATED:20240708T110122Z
LAST-MODIFIED:20240807T101502Z
LOCATION:Sala Carlassare\, Dipartimento di Giurisprudenza - sede di Ferrar
 a
URL:https://de.unife.it/giuri/it/eventi/intercettazione-e-difesa-dello-spa
 zio-aereo
END:VEVENT
BEGIN:VTIMEZONE
TZID:Europe/Berlin
X-LIC-LOCATION:Europe/Berlin
BEGIN:DAYLIGHT
DTSTART:20240331T030000
TZNAME:CEST
TZOFFSETFROM:+0100
TZOFFSETTO:+0200
END:DAYLIGHT
END:VTIMEZONE
END:VCALENDAR
