BEGIN:VCALENDAR
VERSION:2.0
PRODID:-//Plone.org//NONSGML plone.app.event//EN
X-WR-TIMEZONE:Europe/Berlin
BEGIN:VEVENT
SUMMARY:Italiani senza meta? Stato\, Nazione\, Patria\, Repubblica
DTSTART;TZID=Europe/Berlin:20241104T173000
DTEND;TZID=Europe/Berlin:20241210T210000
DTSTAMP:20260420T083724Z
UID:d05a2f5ca3104398a4f6299da1aceee8@plone6.unife.it:8059
CATEGORIES:terza-missione
CREATED:20241024T080248Z
DESCRIPTION:Ciclo di incontri e di proiezioni cinematografiche
LAST-MODIFIED:20241024T080305Z
LOCATION:Libraccio Ferrara e Sala estense
URL:https://de.unife.it/giuri/it/eventi/italiani-senza-meta-stato-nazione-
 patria-repubblica
END:VEVENT
BEGIN:VTIMEZONE
TZID:Europe/Berlin
X-LIC-LOCATION:Europe/Berlin
BEGIN:STANDARD
DTSTART:20241027T020000
TZNAME:CET
TZOFFSETFROM:+0200
TZOFFSETTO:+0100
END:STANDARD
END:VTIMEZONE
END:VCALENDAR
