BEGIN:VCALENDAR
VERSION:2.0
PRODID:-//Plone.org//NONSGML plone.app.event//EN
X-WR-TIMEZONE:Europe/Berlin
BEGIN:VEVENT
SUMMARY:L’acquis comunitario e i Paesi terzi:  l’applicazione del diri
 tto UE agli Accordi di associazione
DTSTART;TZID=Europe/Berlin:20251120T103000
DTEND;TZID=Europe/Berlin:20251120T133000
DTSTAMP:20260420T095830Z
UID:1a87bb42fdd74986b17241ffaedb7c7d@plone6.unife.it:8059
CATEGORIES:dottorato,ricerca
CREATED:20251110T093040Z
LAST-MODIFIED:20251110T093124Z
LOCATION:Istituto giuridico sammarinese - Salita alla Rocca 44\, San Marin
 o
URL:https://de.unife.it/giuri/it/eventi/l2019acquis-comunitario-e-i-paesi-
 terzi-l2019applicazione-del-diritto-ue-agli-accordi-di-associazione
END:VEVENT
BEGIN:VTIMEZONE
TZID:Europe/Berlin
X-LIC-LOCATION:Europe/Berlin
BEGIN:STANDARD
DTSTART:20251026T020000
TZNAME:CET
TZOFFSETFROM:+0200
TZOFFSETTO:+0100
END:STANDARD
END:VTIMEZONE
END:VCALENDAR
