BEGIN:VCALENDAR
VERSION:2.0
PRODID:-//Plone.org//NONSGML plone.app.event//EN
X-WR-TIMEZONE:Europe/Berlin
BEGIN:VEVENT
SUMMARY:L’amministrazione artificiale tra efficienza e legalità
DTSTART;TZID=Europe/Berlin:20260320T110000
DTEND;TZID=Europe/Berlin:20260320T130000
DTSTAMP:20260420T083829Z
UID:e7f5b16e359440c696a14816ed5541d3@plone6.unife.it:8059
CATEGORIES:ricerca,dottorato
CREATED:20260209T110818Z
DESCRIPTION:Un dialogo a partire dal Volume di E. CARLONI\, Critica dell
 ’amministrazione artificiale\, il Mulino\, 2026
LAST-MODIFIED:20260209T111325Z
LOCATION:Dipartimento di Giurisprudenza - Sala Consiliare - “Lorenza Car
 lassare”
URL:https://de.unife.it/giuri/it/eventi/l2019amministrazione-artificiale-t
 ra-efficienza-e-legalita
END:VEVENT
BEGIN:VTIMEZONE
TZID:Europe/Berlin
X-LIC-LOCATION:Europe/Berlin
BEGIN:STANDARD
DTSTART:20251026T020000
TZNAME:CET
TZOFFSETFROM:+0200
TZOFFSETTO:+0100
END:STANDARD
END:VTIMEZONE
END:VCALENDAR
