BEGIN:VCALENDAR
VERSION:2.0
PRODID:-//Plone.org//NONSGML plone.app.event//EN
X-WR-TIMEZONE:Europe/Berlin
BEGIN:VEVENT
SUMMARY:L’amministrazione della sanità digitale alla prova della garanz
 ia dell’accesso alle cure mediche negli istituti di pena - II INCONTRO
DTSTART;TZID=Europe/Berlin:20250130T103000
DTEND;TZID=Europe/Berlin:20250130T133000
DTSTAMP:20260420T095917Z
UID:c56b266bfbff4e08a6dea52ea7d82bc6@plone6.unife.it:8059
CATEGORIES:ricerca
CREATED:20241216T095340Z
LAST-MODIFIED:20250121T114855Z
LOCATION:Dipartimento di Giurisprudenza - Sala consiliare “Lorenza Carla
 ssare”
URL:https://de.unife.it/giuri/it/eventi/l2019amministrazione-della-sanita-
 digitale-alla-prova-della-garanzia-dell2019accesso-alle-cure-mediche-negli
 -istituti-di-pena
END:VEVENT
BEGIN:VTIMEZONE
TZID:Europe/Berlin
X-LIC-LOCATION:Europe/Berlin
BEGIN:STANDARD
DTSTART:20241027T020000
TZNAME:CET
TZOFFSETFROM:+0200
TZOFFSETTO:+0100
END:STANDARD
END:VTIMEZONE
END:VCALENDAR
