BEGIN:VCALENDAR
VERSION:2.0
PRODID:-//Plone.org//NONSGML plone.app.event//EN
X-WR-TIMEZONE:Europe/Berlin
BEGIN:VEVENT
SUMMARY:L’esposizione a sostanze tossiche nei laboratori di ricerca univ
 ersitari: un caso studio
DTSTART;TZID=Europe/Berlin:20240620T100000
DTEND;TZID=Europe/Berlin:20240620T180000
DTSTAMP:20260420T083852Z
UID:43cbe3f4a1ac42b2b2842c7d0abe7945@plone6.unife.it:8059
CATEGORIES:ricerca
CREATED:20240708T104732Z
LAST-MODIFIED:20240807T101519Z
LOCATION:Aula Magna\, Dipartimento di Giurisprudenza - sede di Ferrara
URL:https://de.unife.it/giuri/it/eventi/l2019esposizione-a-sostanze-tossic
 he-nei-laboratori-di-ricerca-universitari-un-caso-studio
END:VEVENT
BEGIN:VTIMEZONE
TZID:Europe/Berlin
X-LIC-LOCATION:Europe/Berlin
BEGIN:DAYLIGHT
DTSTART:20240331T030000
TZNAME:CEST
TZOFFSETFROM:+0100
TZOFFSETTO:+0200
END:DAYLIGHT
END:VTIMEZONE
END:VCALENDAR
