BEGIN:VCALENDAR
VERSION:2.0
PRODID:-//Plone.org//NONSGML plone.app.event//EN
X-WR-TIMEZONE:Europe/Berlin
BEGIN:VEVENT
SUMMARY:LA CORTE PENALE INTERNAZIONALE: SFIDE E PROSPETTIVE ATTUALI
DTSTART;TZID=Europe/Berlin:20260210T090000
DTEND;TZID=Europe/Berlin:20260210T130000
DTSTAMP:20260420T083651Z
UID:f65c8f4b07bd4c2285c20fdc70cb0e42@plone6.unife.it:8059
CATEGORIES:didattica-ferrara,terza-missione
CREATED:20260202T072438Z
DESCRIPTION:Tavola rotonda nell’ambito del corso di Diritto internaziona
 le penale militare - Prof. Alessandra Annoni e Dott. Giorgia Berrino
LAST-MODIFIED:20260202T072457Z
LOCATION:Sala Carlassare - PALAZZO GIORDANI
URL:https://de.unife.it/giuri/it/eventi/la-corte-penale-internazionale-sfi
 de-e-prospettive-attuali
END:VEVENT
BEGIN:VTIMEZONE
TZID:Europe/Berlin
X-LIC-LOCATION:Europe/Berlin
BEGIN:STANDARD
DTSTART:20251026T020000
TZNAME:CET
TZOFFSETFROM:+0200
TZOFFSETTO:+0100
END:STANDARD
END:VTIMEZONE
END:VCALENDAR
